Workbook

Sheet Équipes
A2: Nom du club | G2: Nombre d'équipes | H2: =COUNTIF(G5:G500, ">0") -> 0
G3: Nombre de coureurs | H3: =SUM(G5:G500) -> 0
A4: Catégorie de l'équipe | B4: H Master B
A5: Nombre de coureurs | B5: =CONCATENATE(G5,"/",F5) -> 0/3 | F5: =_xlfn.XLOOKUP(B4, Catégories!$A$2:$A$19,Catégories!$B$2:$B$19) -> 3 | G5: =COUNTIF(B7:B9, "<>") -> 0 | H5: =_xlfn.XLOOKUP(B4, Catégories!$A$2:$A$19,Catégories!$C$2:$C$19) -> H | I5: =_xlfn.XLOOKUP(B4, Catégories!$A$2:$A$19,Catégories!$D$2:$D$19) -> 1900 | J5: =_xlfn.XLOOKUP(B4, Catégories!$A$2:$A$19,Catégories!$E$2:$E$19) -> 1976
B6: Nom + Prénom | C6: Anné naissance | D6: Sexe | E6: N° SI | F6: Sexe OK ? | G6: Année OK ?
A7: #1 | F7: =IF(H5="H",IF(OR(D7="D",D7="H"),"OK","invalide"),IF(D7="D","OK","invalide")) -> invalide | G7: =IF(AND(C7>=I5,C7<=J5),"OK","invalide") -> invalide
A8: #2 | F8: =IF(H5="H",IF(OR(D8="D",D8="H"),"OK","invalide"),IF(D8="D","OK","invalide")) -> invalide | G8: =IF(AND(C8>=I5,C8<=J5),"OK","invalide") -> invalide
A9: =IF(F5=3,"#3", "") -> #3 | F9: =IF(F5=2,"OK",IF(H5="H",IF(OR(D9="D",D9="H"),"OK","invalide"),IF(D9="D","OK","invalide"))) -> invalide | G9: =IF(F5=2,"OK",IF(AND(C8>=I5,C8<=J5),"OK","invalide")) -> invalide
A12: Catégorie de l'équipe | B12: H Open
A13: Nombre de coureurs | B13: =CONCATENATE(G13,"/",F13) -> 0/3 | F13: =_xlfn.XLOOKUP(B12, Catégories!$A$2:$A$19,Catégories!$B$2:$B$19) -> 3 | G13: =COUNTIF(B15:B17, "<>") -> 0 | H13: =_xlfn.XLOOKUP(B12, Catégories!$A$2:$A$19,Catégories!$C$2:$C$19) -> H | I13: =_xlfn.XLOOKUP(B12, Catégories!$A$2:$A$19,Catégories!$D$2:$D$19) -> 1900 | J13: =_xlfn.XLOOKUP(B12, Catégories!$A$2:$A$19,Catégories!$E$2:$E$19) -> 2009
B14: Nom + Prénom | C14: Anné naissance | D14: Sexe | E14: N° SI | F14: Sexe OK ? | G14: Année OK ?
A15: #1 | F15: =IF(H13="H",IF(OR(D15="D",D15="H"),"OK","invalide"),IF(D15="D","OK","invalide")) -> invalide | G15: =IF(AND(C15>=I13,C15<=J13),"OK","invalide") -> invalide
A16: #2 | F16: =IF(H13="H",IF(OR(D16="D",D16="H"),"OK","invalide"),IF(D16="D","OK","invalide")) -> invalide | G16: =IF(AND(C16>=I13,C16<=J13),"OK","invalide") -> invalide
A17: =IF(F13=3,"#3", "") -> #3 | F17: =IF(F13=2,"OK",IF(H13="H",IF(OR(D17="D",D17="H"),"OK","invalide"),IF(D17="D","OK","invalide"))) -> invalide | G17: =IF(F13=2,"OK",IF(AND(C16>=I13,C16<=J13),"OK","invalide")) -> invalide
A20: Catégorie de l'équipe | B20: D Master C
A21: Nombre de coureurs | B21: =CONCATENATE(G21,"/",F21) -> 0/2 | F21: =_xlfn.XLOOKUP(B20, Catégories!$A$2:$A$19,Catégories!$B$2:$B$19) -> 2 | G21: =COUNTIF(B23:B25, "<>") -> 0 | H21: =_xlfn.XLOOKUP(B20, Catégories!$A$2:$A$19,Catégories!$C$2:$C$19) -> D | I21: =_xlfn.XLOOKUP(B20, Catégories!$A$2:$A$19,Catégories!$D$2:$D$19) -> 1900 | J21: =_xlfn.XLOOKUP(B20, Catégories!$A$2:$A$19,Catégories!$E$2:$E$19) -> 1966
B22: Nom + Prénom | C22: Anné naissance | D22: Sexe | E22: N° SI | F22: Sexe OK ? | G22: Année OK ?
A23: #1 | F23: =IF(H21="H",IF(OR(D23="D",D23="H"),"OK","invalide"),IF(D23="D","OK","invalide")) -> invalide | G23: =IF(AND(C23>=I21,C23<=J21),"OK","invalide") -> invalide
A24: #2 | F24: =IF(H21="H",IF(OR(D24="D",D24="H"),"OK","invalide"),IF(D24="D","OK","invalide")) -> invalide | G24: =IF(AND(C24>=I21,C24<=J21),"OK","invalide") -> invalide
A25: =IF(F21=3,"#3", "") | F25: =IF(F21=2,"OK",IF(H21="H",IF(OR(D25="D",D25="H"),"OK","invalide"),IF(D25="D","OK","invalide"))) -> OK | G25: =IF(F21=2,"OK",IF(AND(C24>=I21,C24<=J21),"OK","invalide")) -> OK
A28: Catégorie de l'équipe | B28: D Junior
A29: Nombre de coureurs | B29: =CONCATENATE(G29,"/",F29) -> 0/2 | F29: =_xlfn.XLOOKUP(B28, Catégories!$A$2:$A$19,Catégories!$B$2:$B$19) -> 2 | G29: =COUNTIF(B31:B33, "<>") -> 0 | H29: =_xlfn.XLOOKUP(B28, Catégories!$A$2:$A$19,Catégories!$C$2:$C$19) -> D | I29: =_xlfn.XLOOKUP(B28, Catégories!$A$2:$A$19,Catégories!$D$2:$D$19) -> 2006 | J29: =_xlfn.XLOOKUP(B28, Catégories!$A$2:$A$19,Catégories!$E$2:$E$19) -> 2013
B30: Nom + Prénom | C30: Anné naissance | D30: Sexe | E30: N° SI | F30: Sexe OK ? | G30: Année OK ?
A31: #1 | F31: =IF(H29="H",IF(OR(D31="D",D31="H"),"OK","invalide"),IF(D31="D","OK","invalide")) -> invalide | G31: =IF(AND(C31>=I29,C31<=J29),"OK","invalide") -> invalide
A32: #2 | F32: =IF(H29="H",IF(OR(D32="D",D32="H"),"OK","invalide"),IF(D32="D","OK","invalide")) -> invalide | G32: =IF(AND(C32>=I29,C32<=J29),"OK","invalide") -> invalide
A33: =IF(F29=3,"#3", "") | F33: =IF(F29=2,"OK",IF(H29="H",IF(OR(D33="D",D33="H"),"OK","invalide"),IF(D33="D","OK","invalide"))) -> OK | G33: =IF(F29=2,"OK",IF(AND(C32>=I29,C32<=J29),"OK","invalide")) -> OK
A36: Catégorie de l'équipe | B36: H Open
A37: Nombre de coureurs | B37: =CONCATENATE(G37,"/",F37) -> 0/3 | F37: =_xlfn.XLOOKUP(B36, Catégories!$A$2:$A$19,Catégories!$B$2:$B$19) -> 3 | G37: =COUNTIF(B39:B41, "<>") -> 0 | H37: =_xlfn.XLOOKUP(B36, Catégories!$A$2:$A$19,Catégories!$C$2:$C$19) -> H | I37: =_xlfn.XLOOKUP(B36, Catégories!$A$2:$A$19,Catégories!$D$2:$D$19) -> 1900 | J37: =_xlfn.XLOOKUP(B36, Catégories!$A$2:$A$19,Catégories!$E$2:$E$19) -> 2009
B38: Nom + Prénom | C38: Anné naissance | D38: Sexe | E38: N° SI | F38: Sexe OK ? | G38: Année OK ?
A39: #1 | F39: =IF(H37="H",IF(OR(D39="D",D39="H"),"OK","invalide"),IF(D39="D","OK","invalide")) -> invalide | G39: =IF(AND(C39>=I37,C39<=J37),"OK","invalide") -> invalide
A40: #2 | F40: =IF(H37="H",IF(OR(D40="D",D40="H"),"OK","invalide"),IF(D40="D","OK","invalide")) -> invalide | G40: =IF(AND(C40>=I37,C40<=J37),"OK","invalide") -> invalide
A41: =IF(F37=3,"#3", "") -> #3 | F41: =IF(F37=2,"OK",IF(H37="H",IF(OR(D41="D",D41="H"),"OK","invalide"),IF(D41="D","OK","invalide"))) -> invalide | G41: =IF(F37=2,"OK",IF(AND(C40>=I37,C40<=J37),"OK","invalide")) -> invalide
A44: Catégorie de l'équipe | B44: D Master C
A45: Nombre de coureurs | B45: =CONCATENATE(G45,"/",F45) -> 0/2 | F45: =_xlfn.XLOOKUP(B44, Catégories!$A$2:$A$19,Catégories!$B$2:$B$19) -> 2 | G45: =COUNTIF(B47:B49, "<>") -> 0 | H45: =_xlfn.XLOOKUP(B44, Catégories!$A$2:$A$19,Catégories!$C$2:$C$19) -> D | I45: =_xlfn.XLOOKUP(B44, Catégories!$A$2:$A$19,Catégories!$D$2:$D$19) -> 1900 | J45: =_xlfn.XLOOKUP(B44, Catégories!$A$2:$A$19,Catégories!$E$2:$E$19) -> 1966
B46: Nom + Prénom | C46: Anné naissance | D46: Sexe | E46: N° SI | F46: Sexe OK ? | G46: Année OK ?
A47: #1 | F47: =IF(H45="H",IF(OR(D47="D",D47="H"),"OK","invalide"),IF(D47="D","OK","invalide")) -> invalide | G47: =IF(AND(C47>=I45,C47<=J45),"OK","invalide") -> invalide
A48: #2 | F48: =IF(H45="H",IF(OR(D48="D",D48="H"),"OK","invalide"),IF(D48="D","OK","invalide")) -> invalide | G48: =IF(AND(C48>=I45,C48<=J45),"OK","invalide") -> invalide
A49: =IF(F45=3,"#3", "") | F49: =IF(F45=2,"OK",IF(H45="H",IF(OR(D49="D",D49="H"),"OK","invalide"),IF(D49="D","OK","invalide"))) -> OK | G49: =IF(F45=2,"OK",IF(AND(C48>=I45,C48<=J45),"OK","invalide")) -> OK
A52: Catégorie de l'équipe | B52: D Junior
A53: Nombre de coureurs | B53: =CONCATENATE(G53,"/",F53) -> 0/2 | F53: =_xlfn.XLOOKUP(B52, Catégories!$A$2:$A$19,Catégories!$B$2:$B$19) -> 2 | G53: =COUNTIF(B55:B57, "<>") -> 0 | H53: =_xlfn.XLOOKUP(B52, Catégories!$A$2:$A$19,Catégories!$C$2:$C$19) -> D | I53: =_xlfn.XLOOKUP(B52, Catégories!$A$2:$A$19,Catégories!$D$2:$D$19) -> 2006 | J53: =_xlfn.XLOOKUP(B52, Catégories!$A$2:$A$19,Catégories!$E$2:$E$19) -> 2013
B54: Nom + Prénom | C54: Anné naissance | D54: Sexe | E54: N° SI | F54: Sexe OK ? | G54: Année OK ?
A55: #1 | F55: =IF(H53="H",IF(OR(D55="D",D55="H"),"OK","invalide"),IF(D55="D","OK","invalide")) -> invalide | G55: =IF(AND(C55>=I53,C55<=J53),"OK","invalide") -> invalide
A56: #2 | F56: =IF(H53="H",IF(OR(D56="D",D56="H"),"OK","invalide"),IF(D56="D","OK","invalide")) -> invalide | G56: =IF(AND(C56>=I53,C56<=J53),"OK","invalide") -> invalide
A57: =IF(F53=3,"#3", "") | F57: =IF(F53=2,"OK",IF(H53="H",IF(OR(D57="D",D57="H"),"OK","invalide"),IF(D57="D","OK","invalide"))) -> OK | G57: =IF(F53=2,"OK",IF(AND(C56>=I53,C56<=J53),"OK","invalide")) -> OK
A60: Catégorie de l'équipe | B60: H Open
A61: Nombre de coureurs | B61: =CONCATENATE(G61,"/",F61) -> 0/3 | F61: =_xlfn.XLOOKUP(B60, Catégories!$A$2:$A$19,Catégories!$B$2:$B$19) -> 3 | G61: =COUNTIF(B63:B65, "<>") -> 0 | H61: =_xlfn.XLOOKUP(B60, Catégories!$A$2:$A$19,Catégories!$C$2:$C$19) -> H | I61: =_xlfn.XLOOKUP(B60, Catégories!$A$2:$A$19,Catégories!$D$2:$D$19) -> 1900 | J61: =_xlfn.XLOOKUP(B60, Catégories!$A$2:$A$19,Catégories!$E$2:$E$19) -> 2009
B62: Nom + Prénom | C62: Anné naissance | D62: Sexe | E62: N° SI | F62: Sexe OK ? | G62: Année OK ?
A63: #1 | F63: =IF(H61="H",IF(OR(D63="D",D63="H"),"OK","invalide"),IF(D63="D","OK","invalide")) -> invalide | G63: =IF(AND(C63>=I61,C63<=J61),"OK","invalide") -> invalide
A64: #2 | F64: =IF(H61="H",IF(OR(D64="D",D64="H"),"OK","invalide"),IF(D64="D","OK","invalide")) -> invalide | G64: =IF(AND(C64>=I61,C64<=J61),"OK","invalide") -> invalide
A65: =IF(F61=3,"#3", "") -> #3 | F65: =IF(F61=2,"OK",IF(H61="H",IF(OR(D65="D",D65="H"),"OK","invalide"),IF(D65="D","OK","invalide"))) -> invalide | G65: =IF(F61=2,"OK",IF(AND(C64>=I61,C64<=J61),"OK","invalide")) -> invalide
A68: Catégorie de l'équipe | B68: D Master C
A69: Nombre de coureurs | B69: =CONCATENATE(G69,"/",F69) -> 0/2 | F69: =_xlfn.XLOOKUP(B68, Catégories!$A$2:$A$19,Catégories!$B$2:$B$19) -> 2 | G69: =COUNTIF(B71:B73, "<>") -> 0 | H69: =_xlfn.XLOOKUP(B68, Catégories!$A$2:$A$19,Catégories!$C$2:$C$19) -> D | I69: =_xlfn.XLOOKUP(B68, Catégories!$A$2:$A$19,Catégories!$D$2:$D$19) -> 1900 | J69: =_xlfn.XLOOKUP(B68, Catégories!$A$2:$A$19,Catégories!$E$2:$E$19) -> 1966
B70: Nom + Prénom | C70: Anné naissance | D70: Sexe | E70: N° SI | F70: Sexe OK ? | G70: Année OK ?
A71: #1 | F71: =IF(H69="H",IF(OR(D71="D",D71="H"),"OK","invalide"),IF(D71="D","OK","invalide")) -> invalide | G71: =IF(AND(C71>=I69,C71<=J69),"OK","invalide") -> invalide
A72: #2 | F72: =IF(H69="H",IF(OR(D72="D",D72="H"),"OK","invalide"),IF(D72="D","OK","invalide")) -> invalide | G72: =IF(AND(C72>=I69,C72<=J69),"OK","invalide") -> invalide
A73: =IF(F69=3,"#3", "") | F73: =IF(F69=2,"OK",IF(H69="H",IF(OR(D73="D",D73="H"),"OK","invalide"),IF(D73="D","OK","invalide"))) -> OK | G73: =IF(F69=2,"OK",IF(AND(C72>=I69,C72<=J69),"OK","invalide")) -> OK
A76: Catégorie de l'équipe | B76: D Junior
A77: Nombre de coureurs | B77: =CONCATENATE(G77,"/",F77) -> 0/2 | F77: =_xlfn.XLOOKUP(B76, Catégories!$A$2:$A$19,Catégories!$B$2:$B$19) -> 2 | G77: =COUNTIF(B79:B81, "<>") -> 0 | H77: =_xlfn.XLOOKUP(B76, Catégories!$A$2:$A$19,Catégories!$C$2:$C$19) -> D | I77: =_xlfn.XLOOKUP(B76, Catégories!$A$2:$A$19,Catégories!$D$2:$D$19) -> 2006 | J77: =_xlfn.XLOOKUP(B76, Catégories!$A$2:$A$19,Catégories!$E$2:$E$19) -> 2013
B78: Nom + Prénom | C78: Anné naissance | D78: Sexe | E78: N° SI | F78: Sexe OK ? | G78: Année OK ?
A79: #1 | F79: =IF(H77="H",IF(OR(D79="D",D79="H"),"OK","invalide"),IF(D79="D","OK","invalide")) -> invalide | G79: =IF(AND(C79>=I77,C79<=J77),"OK","invalide") -> invalide
A80: #2 | F80: =IF(H77="H",IF(OR(D80="D",D80="H"),"OK","invalide"),IF(D80="D","OK","invalide")) -> invalide | G80: =IF(AND(C80>=I77,C80<=J77),"OK","invalide") -> invalide
A81: =IF(F77=3,"#3", "") | F81: =IF(F77=2,"OK",IF(H77="H",IF(OR(D81="D",D81="H"),"OK","invalide"),IF(D81="D","OK","invalide"))) -> OK | G81: =IF(F77=2,"OK",IF(AND(C80>=I77,C80<=J77),"OK","invalide")) -> OK
A84: Catégorie de l'équipe | B84: H Open
A85: Nombre de coureurs | B85: =CONCATENATE(G85,"/",F85) -> 0/3 | F85: =_xlfn.XLOOKUP(B84, Catégories!$A$2:$A$19,Catégories!$B$2:$B$19) -> 3 | G85: =COUNTIF(B87:B89, "<>") -> 0 | H85: =_xlfn.XLOOKUP(B84, Catégories!$A$2:$A$19,Catégories!$C$2:$C$19) -> H | I85: =_xlfn.XLOOKUP(B84, Catégories!$A$2:$A$19,Catégories!$D$2:$D$19) -> 1900 | J85: =_xlfn.XLOOKUP(B84, Catégories!$A$2:$A$19,Catégories!$E$2:$E$19) -> 2009
B86: Nom + Prénom | C86: Anné naissance | D86: Sexe | E86: N° SI | F86: Sexe OK ? | G86: Année OK ?
A87: #1 | F87: =IF(H85="H",IF(OR(D87="D",D87="H"),"OK","invalide"),IF(D87="D","OK","invalide")) -> invalide | G87: =IF(AND(C87>=I85,C87<=J85),"OK","invalide") -> invalide
A88: #2 | F88: =IF(H85="H",IF(OR(D88="D",D88="H"),"OK","invalide"),IF(D88="D","OK","invalide")) -> invalide | G88: =IF(AND(C88>=I85,C88<=J85),"OK","invalide") -> invalide
A89: =IF(F85=3,"#3", "") -> #3 | F89: =IF(F85=2,"OK",IF(H85="H",IF(OR(D89="D",D89="H"),"OK","invalide"),IF(D89="D","OK","invalide"))) -> invalide | G89: =IF(F85=2,"OK",IF(AND(C88>=I85,C88<=J85),"OK","invalide")) -> invalide
A92: Catégorie de l'équipe | B92: D Master C
A93: Nombre de coureurs | B93: =CONCATENATE(G93,"/",F93) -> 0/2 | F93: =_xlfn.XLOOKUP(B92, Catégories!$A$2:$A$19,Catégories!$B$2:$B$19) -> 2 | G93: =COUNTIF(B95:B97, "<>") -> 0 | H93: =_xlfn.XLOOKUP(B92, Catégories!$A$2:$A$19,Catégories!$C$2:$C$19) -> D | I93: =_xlfn.XLOOKUP(B92, Catégories!$A$2:$A$19,Catégories!$D$2:$D$19) -> 1900 | J93: =_xlfn.XLOOKUP(B92, Catégories!$A$2:$A$19,Catégories!$E$2:$E$19) -> 1966
B94: Nom + Prénom | C94: Anné naissance | D94: Sexe | E94: N° SI | F94: Sexe OK ? | G94: Année OK ?
A95: #1 | F95: =IF(H93="H",IF(OR(D95="D",D95="H"),"OK","invalide"),IF(D95="D","OK","invalide")) -> invalide | G95: =IF(AND(C95>=I93,C95<=J93),"OK","invalide") -> invalide
A96: #2 | F96: =IF(H93="H",IF(OR(D96="D",D96="H"),"OK","invalide"),IF(D96="D","OK","invalide")) -> invalide | G96: =IF(AND(C96>=I93,C96<=J93),"OK","invalide") -> invalide
A97: =IF(F93=3,"#3", "") | F97: =IF(F93=2,"OK",IF(H93="H",IF(OR(D97="D",D97="H"),"OK","invalide"),IF(D97="D","OK","invalide"))) -> OK | G97: =IF(F93=2,"OK",IF(AND(C96>=I93,C96<=J93),"OK","invalide")) -> OK
A100: Catégorie de l'équipe | B100: D Junior
A101: Nombre de coureurs | B101: =CONCATENATE(G101,"/",F101) -> 0/2 | F101: =_xlfn.XLOOKUP(B100, Catégories!$A$2:$A$19,Catégories!$B$2:$B$19) -> 2 | G101: =COUNTIF(B103:B105, "<>") -> 0 | H101: =_xlfn.XLOOKUP(B100, Catégories!$A$2:$A$19,Catégories!$C$2:$C$19) -> D | I101: =_xlfn.XLOOKUP(B100, Catégories!$A$2:$A$19,Catégories!$D$2:$D$19) -> 2006 | J101: =_xlfn.XLOOKUP(B100, Catégories!$A$2:$A$19,Catégories!$E$2:$E$19) -> 2013
B102: Nom + Prénom | C102: Anné naissance | D102: Sexe | E102: N° SI | F102: Sexe OK ? | G102: Année OK ?
A103: #1 | F103: =IF(H101="H",IF(OR(D103="D",D103="H"),"OK","invalide"),IF(D103="D","OK","invalide")) -> invalide | G103: =IF(AND(C103>=I101,C103<=J101),"OK","invalide") -> invalide
A104: #2 | F104: =IF(H101="H",IF(OR(D104="D",D104="H"),"OK","invalide"),IF(D104="D","OK","invalide")) -> invalide | G104: =IF(AND(C104>=I101,C104<=J101),"OK","invalide") -> invalide
A105: =IF(F101=3,"#3", "") | F105: =IF(F101=2,"OK",IF(H101="H",IF(OR(D105="D",D105="H"),"OK","invalide"),IF(D105="D","OK","invalide"))) -> OK | G105: =IF(F101=2,"OK",IF(AND(C104>=I101,C104<=J101),"OK","invalide")) -> OK
A108: Catégorie de l'équipe | B108: H Open
A109: Nombre de coureurs | B109: =CONCATENATE(G109,"/",F109) -> 0/3 | F109: =_xlfn.XLOOKUP(B108, Catégories!$A$2:$A$19,Catégories!$B$2:$B$19) -> 3 | G109: =COUNTIF(B111:B113, "<>") -> 0 | H109: =_xlfn.XLOOKUP(B108, Catégories!$A$2:$A$19,Catégories!$C$2:$C$19) -> H | I109: =_xlfn.XLOOKUP(B108, Catégories!$A$2:$A$19,Catégories!$D$2:$D$19) -> 1900 | J109: =_xlfn.XLOOKUP(B108, Catégories!$A$2:$A$19,Catégories!$E$2:$E$19) -> 2009
B110: Nom + Prénom | C110: Anné naissance | D110: Sexe | E110: N° SI | F110: Sexe OK ? | G110: Année OK ?
A111: #1 | F111: =IF(H109="H",IF(OR(D111="D",D111="H"),"OK","invalide"),IF(D111="D","OK","invalide")) -> invalide | G111: =IF(AND(C111>=I109,C111<=J109),"OK","invalide") -> invalide
A112: #2 | F112: =IF(H109="H",IF(OR(D112="D",D112="H"),"OK","invalide"),IF(D112="D","OK","invalide")) -> invalide | G112: =IF(AND(C112>=I109,C112<=J109),"OK","invalide") -> invalide
A113: =IF(F109=3,"#3", "") -> #3 | F113: =IF(F109=2,"OK",IF(H109="H",IF(OR(D113="D",D113="H"),"OK","invalide"),IF(D113="D","OK","invalide"))) -> invalide | G113: =IF(F109=2,"OK",IF(AND(C112>=I109,C112<=J109),"OK","invalide")) -> invalide
A116: Catégorie de l'équipe | B116: D Master C
A117: Nombre de coureurs | B117: =CONCATENATE(G117,"/",F117) -> 0/2 | F117: =_xlfn.XLOOKUP(B116, Catégories!$A$2:$A$19,Catégories!$B$2:$B$19) -> 2 | G117: =COUNTIF(B119:B121, "<>") -> 0 | H117: =_xlfn.XLOOKUP(B116, Catégories!$A$2:$A$19,Catégories!$C$2:$C$19) -> D | I117: =_xlfn.XLOOKUP(B116, Catégories!$A$2:$A$19,Catégories!$D$2:$D$19) -> 1900 | J117: =_xlfn.XLOOKUP(B116, Catégories!$A$2:$A$19,Catégories!$E$2:$E$19) -> 1966
B118: Nom + Prénom | C118: Anné naissance | D118: Sexe | E118: N° SI | F118: Sexe OK ? | G118: Année OK ?
A119: #1 | F119: =IF(H117="H",IF(OR(D119="D",D119="H"),"OK","invalide"),IF(D119="D","OK","invalide")) -> invalide | G119: =IF(AND(C119>=I117,C119<=J117),"OK","invalide") -> invalide
A120: #2 | F120: =IF(H117="H",IF(OR(D120="D",D120="H"),"OK","invalide"),IF(D120="D","OK","invalide")) -> invalide | G120: =IF(AND(C120>=I117,C120<=J117),"OK","invalide") -> invalide
A121: =IF(F117=3,"#3", "") | F121: =IF(F117=2,"OK",IF(H117="H",IF(OR(D121="D",D121="H"),"OK","invalide"),IF(D121="D","OK","invalide"))) -> OK | G121: =IF(F117=2,"OK",IF(AND(C120>=I117,C120<=J117),"OK","invalide")) -> OK
A124: Catégorie de l'équipe | B124: D Junior
A125: Nombre de coureurs | B125: =CONCATENATE(G125,"/",F125) -> 0/2 | F125: =_xlfn.XLOOKUP(B124, Catégories!$A$2:$A$19,Catégories!$B$2:$B$19) -> 2 | G125: =COUNTIF(B127:B129, "<>") -> 0 | H125: =_xlfn.XLOOKUP(B124, Catégories!$A$2:$A$19,Catégories!$C$2:$C$19) -> D | I125: =_xlfn.XLOOKUP(B124, Catégories!$A$2:$A$19,Catégories!$D$2:$D$19) -> 2006 | J125: =_xlfn.XLOOKUP(B124, Catégories!$A$2:$A$19,Catégories!$E$2:$E$19) -> 2013
B126: Nom + Prénom | C126: Anné naissance | D126: Sexe | E126: N° SI | F126: Sexe OK ? | G126: Année OK ?
A127: #1 | F127: =IF(H125="H",IF(OR(D127="D",D127="H"),"OK","invalide"),IF(D127="D","OK","invalide")) -> invalide | G127: =IF(AND(C127>=I125,C127<=J125),"OK","invalide") -> invalide
A128: #2 | F128: =IF(H125="H",IF(OR(D128="D",D128="H"),"OK","invalide"),IF(D128="D","OK","invalide")) -> invalide | G128: =IF(AND(C128>=I125,C128<=J125),"OK","invalide") -> invalide
A129: =IF(F125=3,"#3", "") | F129: =IF(F125=2,"OK",IF(H125="H",IF(OR(D129="D",D129="H"),"OK","invalide"),IF(D129="D","OK","invalide"))) -> OK | G129: =IF(F125=2,"OK",IF(AND(C128>=I125,C128<=J125),"OK","invalide")) -> OK
A132: Catégorie de l'équipe | B132: H Open
A133: Nombre de coureurs | B133: =CONCATENATE(G133,"/",F133) -> 0/3 | F133: =_xlfn.XLOOKUP(B132, Catégories!$A$2:$A$19,Catégories!$B$2:$B$19) -> 3 | G133: =COUNTIF(B135:B137, "<>") -> 0 | H133: =_xlfn.XLOOKUP(B132, Catégories!$A$2:$A$19,Catégories!$C$2:$C$19) -> H | I133: =_xlfn.XLOOKUP(B132, Catégories!$A$2:$A$19,Catégories!$D$2:$D$19) -> 1900 | J133: =_xlfn.XLOOKUP(B132, Catégories!$A$2:$A$19,Catégories!$E$2:$E$19) -> 2009
...

Sheet Catégories
A1: catégories | B1: # runners | C1: H/D | D1: année naissance min | E1: anné naissance max
A2: D Pup | B2: 2 | C2: D | D2: 2014 | E2: 2025
A3: H Pup | B3: 2 | C3: H | D3: 2014 | E3: 2025
A4: D Espoir | B4: 2 | C4: D | D4: 2010 | E4: 2025
A5: H Espoir | B5: 2 | C5: H | D5: 2010 | E5: 2025
A6: D Junior | B6: 2 | C6: D | D6: 2006 | E6: 2013
A7: H Junior | B7: 2 | C7: H | D7: 2006 | E7: 2013
A8: D Open | B8: 3 | C8: D | D8: 1900 | E8: 2009
A9: H Open | B9: 3 | C9: H | D9: 1900 | E9: 2009
A10: D Master A | B10: 3 | C10: D | D10: 1900 | E10: 1986
A11: H Master A | B11: 3 | C11: H | D11: 1900 | E11: 1986
A12: D Master B | B12: 3 | C12: D | D12: 1900 | E12: 1976
A13: H Master B | B13: 3 | C13: H | D13: 1900 | E13: 1976
... A19: H Master E | B19: 2 | C19: H | D19: 1900 | E19: 1946
A23: H
A24: D
