Workbook

Sheet Équipes
A2: Nom du club | G2: Nombre d'équipes | H2: =COUNTIF(G5:G500, ">0") -> 0
G3: Nombre de coureurs | H3: =SUM(G5:G500) -> 0
A4: Catégorie de l'équipe | B4: H Master B
A5: Nombre de coureurs | B5: =CONCATENATE(G5,"/",F5) -> 0/3 | F5: =_xlfn.XLOOKUP(B4, Catégories!$A$2:$A$19,Catégories!$B$2:$B$19) -> 3 | G5: =COUNTIF(B7:B9, "<>") -> 0 | H5: =_xlfn.XLOOKUP(B4, Catégories!$A$2:$A$19,Catégories!$C$2:$C$19) -> H | I5: =_xlfn.XLOOKUP(B4, Catégories!$A$2:$A$19,Catégories!$D$2:$D$19) -> 1900 | J5: =_xlfn.XLOOKUP(B4, Catégories!$A$2:$A$19,Catégories!$E$2:$E$19) -> 1976
B6: Nom + Prénom | C6: Anné naissance | D6: Sexe | E6: N° SI | F6: Sexe OK ? | G6: Année OK ?
A7: #1 | F7: =IF(H5="H",IF(OR(D7="D",D7="H"),"OK","invalide"),IF(D7="D","OK","invalide")) -> invalide | G7: =IF(AND(C7>=I5,C7<=J5),"OK","invalide") -> invalide
A8: #2 | F8: =IF(H5="H",IF(OR(D8="D",D8="H"),"OK","invalide"),IF(D8="D","OK","invalide")) -> invalide | G8: =IF(AND(C8>=I5,C8<=J5),"OK","invalide") -> invalide
A9: =IF(F5=3,"#3", "") -> #3 | F9: =IF(F5=2,"OK",IF(H5="H",IF(OR(D9="D",D9="H"),"OK","invalide"),IF(D9="D","OK","invalide"))) -> invalide | G9: =IF(F5=2,"OK",IF(AND(C8>=I5,C8<=J5),"OK","invalide")) -> invalide
A12: Catégorie de l'équipe | B12: H Open
A13: Nombre de coureurs | B13: =CONCATENATE(G13,"/",F13) -> 0/3 | F13: =_xlfn.XLOOKUP(B12, Catégories!$A$2:$A$19,Catégories!$B$2:$B$19) -> 3 | G13: =COUNTIF(B15:B17, "<>") -> 0 | H13: =_xlfn.XLOOKUP(B12, Catégories!$A$2:$A$19,Catégories!$C$2:$C$19) -> H | I13: =_xlfn.XLOOKUP(B12, Catégories!$A$2:$A$19,Catégories!$D$2:$D$19) -> 1900 | J13: =_xlfn.XLOOKUP(B12, Catégories!$A$2:$A$19,Catégories!$E$2:$E$19) -> 2009
B14: Nom + Prénom | C14: Anné naissance | D14: Sexe | E14: N° SI | F14: Sexe OK ? | G14: Année OK ?
A15: #1 | F15: =IF(H13="H",IF(OR(D15="D",D15="H"),"OK","invalide"),IF(D15="D","OK","invalide")) -> invalide | G15: =IF(AND(C15>=I13,C15<=J13),"OK","invalide") -> invalide
A16: #2 | F16: =IF(H13="H",IF(OR(D16="D",D16="H"),"OK","invalide"),IF(D16="D","OK","invalide")) -> invalide | G16: =IF(AND(C16>=I13,C16<=J13),"OK","invalide") -> invalide
A17: =IF(F13=3,"#3", "") -> #3 | F17: =IF(F13=2,"OK",IF(H13="H",IF(OR(D17="D",D17="H"),"OK","invalide"),IF(D17="D","OK","invalide"))) -> invalide | G17: =IF(F13=2,"OK",IF(AND(C16>=I13,C16<=J13),"OK","invalide")) -> invalide
A20: Catégorie de l'équipe | B20: D Master C
A21: Nombre de coureurs | B21: =CONCATENATE(G21,"/",F21) -> 0/2 | F21: =_xlfn.XLOOKUP(B20, Catégories!$A$2:$A$19,Catégories!$B$2:$B$19) -> 2 | G21: =COUNTIF(B23:B25, "<>") -> 0 | H21: =_xlfn.XLOOKUP(B20, Catégories!$A$2:$A$19,Catégories!$C$2:$C$19) -> D | I21: =_xlfn.XLOOKUP(B20, Catégories!$A$2:$A$19,Catégories!$D$2:$D$19) -> 1900 | J21: =_xlfn.XLOOKUP(B20, Catégories!$A$2:$A$19,Catégories!$E$2:$E$19) -> 1966
B22: Nom + Prénom | C22: Anné naissance | D22: Sexe | E22: N° SI | F22: Sexe OK ? | G22: Année OK ?
A23: #1 | F23: =IF(H21="H",IF(OR(D23="D",D23="H"),"OK","invalide"),IF(D23="D","OK","invalide")) -> invalide | G23: =IF(AND(C23>=I21,C23<=J21),"OK","invalide") -> invalide
A24: #2 | F24: =IF(H21="H",IF(OR(D24="D",D24="H"),"OK","invalide"),IF(D24="D","OK","invalide")) -> invalide | G24: =IF(AND(C24>=I21,C24<=J21),"OK","invalide") -> invalide
A25: =IF(F21=3,"#3", "") | F25: =IF(F21=2,"OK",IF(H21="H",IF(OR(D25="D",D25="H"),"OK","invalide"),IF(D25="D","OK","invalide"))) -> OK | G25: =IF(F21=2,"OK",IF(AND(C24>=I21,C24<=J21),"OK","invalide")) -> OK
A28: Catégorie de l'équipe | B28: D Junior
A29: Nombre de coureurs | B29: =CONCATENATE(G29,"/",F29) -> 0/2 | F29: =_xlfn.XLOOKUP(B28, Catégories!$A$2:$A$19,Catégories!$B$2:$B$19) -> 2 | G29: =COUNTIF(B31:B33, "<>") -> 0 | H29: =_xlfn.XLOOKUP(B28, Catégories!$A$2:$A$19,Catégories!$C$2:$C$19) -> D | I29: =_xlfn.XLOOKUP(B28, Catégories!$A$2:$A$19,Catégories!$D$2:$D$19) -> 2006 | J29: =_xlfn.XLOOKUP(B28, Catégories!$A$2:$A$19,Catégories!$E$2:$E$19) -> 2013
B30: Nom + Prénom | C30: Anné naissance | D30: Sexe | E30: N° SI | F30: Sexe OK ? | G30: Année OK ?
A31: #1 | F31: =IF(H29="H",IF(OR(D31="D",D31="H"),"OK","invalide"),IF(D31="D","OK","invalide")) -> invalide | G31: =IF(AND(C31>=I29,C31<=J29),"OK","invalide") -> invalide
A32: #2 | F32: =IF(H29="H",IF(OR(D32="D",D32="H"),"OK","invalide"),IF(D32="D","OK","invalide")) -> invalide | G32: =IF(AND(C32>=I29,C32<=J29),"OK","invalide") -> invalide
A33: =IF(F29=3,"#3", "") | F33: =IF(F29=2,"OK",IF(H29="H",IF(OR(D33="D",D33="H"),"OK","invalide"),IF(D33="D","OK","invalide"))) -> OK | G33: =IF(F29=2,"OK",IF(AND(C32>=I29,C32<=J29),"OK","invalide")) -> OK
A36: Catégorie de l'équipe | B36: H Open
A37: Nombre de coureurs | B37: =CONCATENATE(G37,"/",F37) -> 0/3 | F37: =_xlfn.XLOOKUP(B36, Catégories!$A$2:$A$19,Catégories!$B$2:$B$19) -> 3 | G37: =COUNTIF(B39:B41, "<>") -> 0 | H37: =_xlfn.XLOOKUP(B36, Catégories!$A$2:$A$19,Catégories!$C$2:$C$19) -> H | I37: =_xlfn.XLOOKUP(B36, Catégories!$A$2:$A$19,Catégories!$D$2:$D$19) -> 1900 | J37: =_xlfn.XLOOKUP(B36, Catégories!$A$2:$A$19,Catégories!$E$2:$E$19) -> 2009
B38: Nom + Prénom | C38: Anné naissance | D38: Sexe | E38: N° SI | F38: Sexe OK ? | G38: Année OK ?
A39: #1 | F39: =IF(H37="H",IF(OR(D39="D",D39="H"),"OK","invalide"),IF(D39="D","OK","invalide")) -> invalide | G39: =IF(AND(C39>=I37,C39<=J37),"OK","invalide") -> invalide
A40: #2 | F40: =IF(H37="H",IF(OR(D40="D",D40="H"),"OK","invalide"),IF(D40="D","OK","invalide")) -> invalide | G40: =IF(AND(C40>=I37,C40<=J37),"OK","invalide") -> invalide
A41: =IF(F37=3,"#3", "") -> #3 | F41: =IF(F37=2,"OK",IF(H37="H",IF(OR(D41="D",D41="H"),"OK","invalide"),IF(D41="D","OK","invalide"))) -> invalide | G41: =IF(F37=2,"OK",IF(AND(C40>=I37,C40<=J37),"OK","invalide")) -> invalide
A44: Catégorie de l'équipe | B44: D Master C
A45: Nombre de coureurs | B45: =CONCATENATE(G45,"/",F45) -> 0/2 | F45: =_xlfn.XLOOKUP(B44, Catégories!$A$2:$A$19,Catégories!$B$2:$B$19) -> 2 | G45: =COUNTIF(B47:B49, "<>") -> 0 | H45: =_xlfn.XLOOKUP(B44, Catégories!$A$2:$A$19,Catégories!$C$2:$C$19) -> D | I45: =_xlfn.XLOOKUP(B44, Catégories!$A$2:$A$19,Catégories!$D$2:$D$19) -> 1900 | J45: =_xlfn.XLOOKUP(B44, Catégories!$A$2:$A$19,Catégories!$E$2:$E$19) -> 1966
B46: Nom + Prénom | C46: Anné naissance | D46: Sexe | E46: N° SI | F46: Sexe OK ? | G46: Année OK ?
A47: #1 | F47: =IF(H45="H",IF(OR(D47="D",D47="H"),"OK","invalide"),IF(D47="D","OK","invalide")) -> invalide | G47: =IF(AND(C47>=I45,C47<=J45),"OK","invalide") -> invalide
A48: #2 | F48: =IF(H45="H",IF(OR(D48="D",D48="H"),"OK","invalide"),IF(D48="D","OK","invalide")) -> invalide | G48: =IF(AND(C48>=I45,C48<=J45),"OK","invalide") -> invalide
A49: =IF(F45=3,"#3", "") | F49: =IF(F45=2,"OK",IF(H45="H",IF(OR(D49="D",D49="H"),"OK","invalide"),IF(D49="D","OK","invalide"))) -> OK | G49: =IF(F45=2,"OK",IF(AND(C48>=I45,C48<=J45),"OK","invalide")) -> OK
A52: Catégorie de l'équipe | B52: D Junior
A53: Nombre de coureurs | B53: =CONCATENATE(G53,"/",F53) -> 0/2 | F53: =_xlfn.XLOOKUP(B52, Catégories!$A$2:$A$19,Catégories!$B$2:$B$19) -> 2 | G53: =COUNTIF(B55:B57, "<>") -> 0 | H53: =_xlfn.XLOOKUP(B52, Catégories!$A$2:$A$19,Catégories!$C$2:$C$19) -> D | I53: =_xlfn.XLOOKUP(B52, Catégories!$A$2:$A$19,Catégories!$D$2:$D$19) -> 2006 | J53: =_xlfn.XLOOKUP(B52, Catégories!$A$2:$A$19,Catégories!$E$2:$E$19) -> 2013
...

Sheet Catégories
A1: catégories | B1: # runners | C1: H/D | D1: année naissance min | E1: anné naissance max
A2: D Pup | B2: 2 | C2: D | D2: 2014 | E2: 2025
A3: H Pup | B3: 2 | C3: H | D3: 2014 | E3: 2025
A4: D Espoir | B4: 2 | C4: D | D4: 2010 | E4: 2025
A5: H Espoir | B5: 2 | C5: H | D5: 2010 | E5: 2025
A6: D Junior | B6: 2 | C6: D | D6: 2006 | E6: 2013
A7: H Junior | B7: 2 | C7: H | D7: 2006 | E7: 2013
A8: D Open | B8: 3 | C8: D | D8: 1900 | E8: 2009
A9: H Open | B9: 3 | C9: H | D9: 1900 | E9: 2009
A10: D Master A | B10: 3 | C10: D | D10: 1900 | E10: 1986
A11: H Master A | B11: 3 | C11: H | D11: 1900 | E11: 1986
A12: D Master B | B12: 3 | C12: D | D12: 1900 | E12: 1976
A13: H Master B | B13: 3 | C13: H | D13: 1900 | E13: 1976
... A19: H Master E | B19: 2 | C19: H | D19: 1900 | E19: 1946
A23: H
A24: D
